BEGIN:VCALENDAR
VERSION:2.0
PRODID:-//Graduate Medical Education Consortium//NONSGML Events//EN
CALSCALE:GREGORIAN
X-ORIGINAL-URL:https://gme.wustl.edu/events/
X-WR-CALDESC:Graduate Medical Education Consortium - Events
BEGIN:VEVENT
UID:20190401T0316Z-1554088570.5885-EO-3907-1@172.23.128.18
STATUS:CONFIRMED
DTSTAMP:20260412T142614Z
CREATED:20190325T162014Z
LAST-MODIFIED:20190404T185110Z
DTSTART;TZID=America/Chicago:20190801T100500
DTEND;TZID=America/Chicago:20190801T102000
SUMMARY: Becker Library Flash Session: E-books (Room 400\, Bernard Becker M
 edical Library)
DESCRIPTION: Part of the 2019 Schedule of Flash Sessions (15-minute overvie
 ws from expert librarians on the 1st Thursday of each month) (pdf) offered 
 through Bernard Becker Medical Library\, Washington University in St. Louis
  School of Medicine Bernard Becker Medical Library. 400\, 10:05-10:20 a.m. 
 No RSVP required. Refreshments served. Aug. 1 – E-books • Accessing e-books
  • E-books […]
X-ALT-DESC;FMTTYPE=text/html: <p>Part of the <a href="https://gme.wustl.edu
 /app/uploads/2019/04/Flash-Sessions-Flyer-BeckerLibrary.pdf">2019 Schedule 
 of Flash Sessions (15-minute overviews from expert librarians on the 1st Th
 ursday of each month) (pdf)</a> offered through Bernard Becker Medical Libr
 ary\, Washington University in St. Louis School of Medicine</p><p>Bernard B
 ecker Medical Library. 400\, 10:05-10:20 a.m.<br />No RSVP required. Refres
 hments served.</p><p>Aug. 1 – E-books<br />• Accessing e-books<br />• E-boo
 ks on mobile devices<br />• Reading or downloading e-books</p><p>Individual
  or customized group sessions are also available!<br />Contact Kim Lipsey a
 t 314-362-4733 or <a href="mailto:lipseyk@wustl.edu">lipseyk@wustl.edu</a><
 /p><p>Please also visit <a href="https://becker.wustl.edu/services/events-c
 lasses-consultations"><strong>Bernard Becker</strong> <strong>Medical</stro
 ng> <strong>Library Events\, Classes and Consultations</strong></a> for add
 itional resources.</p>
LOCATION:Bernard Becker Medical Library
GEO:38.634878;-90.263062
ORGANIZER;CN="Kristina":MAILTO:henke.k@wustl.edu
URL;VALUE=URI:https://gme.wustl.edu/events/event/becker-library-flash-sessi
 on-e-books-room-400-fltc/
END:VEVENT
BEGIN:VTIMEZONE
TZID:America/Chicago
BEGIN:DAYLIGHT
TZOFFSETFROM:-0600
TZOFFSETTO:-0500
DTSTART:20190310T080000
TZNAME:CDT
END:DAYLIGHT
END:VTIMEZONE
END:VCALENDAR
