BEGIN:VCALENDAR
VERSION:2.0
PRODID:-//Graduate Medical Education Consortium//NONSGML Events//EN
CALSCALE:GREGORIAN
X-ORIGINAL-URL:https://gme.wustl.edu/events/
X-WR-CALDESC:Graduate Medical Education Consortium - Events
BEGIN:VEVENT
UID:20231017T0659Z-1697525948.7108-EO-47891-1@172.23.128.18
STATUS:CONFIRMED
DTSTAMP:20260409T154517Z
CREATED:20231010T165621Z
LAST-MODIFIED:20231031T171817Z
DTSTART;TZID=America/Chicago:20231012T173000
DTEND;TZID=America/Chicago:20231012T183000
RRULE:FREQ=WEEKLY;INTERVAL=1;BYDAY=TH;UNTIL=20231109T233000Z
SUMMARY: GME Reflective Writing Group
DESCRIPTION: Location: FLTC Room 204 Time: Every Thursday at 5:30PM\, Octob
 er 12th – November 9th Register here. 
X-ALT-DESC;FMTTYPE=text/html: <p><strong>Location: FLTC Room 204</strong></
 p><p><strong>Time: Every Thursday at 5:30PM\, October 12th - November 9th</
 strong></p><p><a href="https://www.signupgenius.com/go/10C0E4FA8A92AA1F8C07
 -gmereflective">Register here. </a></p>
ORGANIZER;CN="Beckie":MAILTO:b.guillot-beinke@wustl.edu
URL;VALUE=URI:https://gme.wustl.edu/events/event/gme-reflective-writing-gro
 up/
END:VEVENT
BEGIN:VTIMEZONE
TZID:America/Chicago
BEGIN:DAYLIGHT
TZOFFSETFROM:-0600
TZOFFSETTO:-0500
DTSTART:20230312T080000
TZNAME:CDT
END:DAYLIGHT
BEGIN:STANDARD
TZOFFSETFROM:-0500
TZOFFSETTO:-0600
DTSTART:20231105T070000
TZNAME:CST
END:STANDARD
END:VTIMEZONE
END:VCALENDAR
