BEGIN:VCALENDAR
VERSION:2.0
PRODID:-//Graduate Medical Education Consortium//NONSGML Events//EN
CALSCALE:GREGORIAN
X-ORIGINAL-URL:https://gme.wustl.edu/events/
X-WR-CALDESC:Graduate Medical Education Consortium - Events
BEGIN:VEVENT
UID:20240221T0352Z-1708487572.4504-EO-48316-1@172.23.128.18
STATUS:CONFIRMED
DTSTAMP:20260412T142613Z
CREATED:20240220T192418Z
LAST-MODIFIED:20240220T193118Z
DTSTART;TZID=America/Chicago:20240410T180000
DTEND;TZID=America/Chicago:20240410T220000
SUMMARY: In Our Words: Finding Meaning
DESCRIPTION: Learn more\, register for the event and submit your story or a
 rtwork here. Deadline for submissions: February 28th. Location: Third Degre
 e Glass Factory
X-ALT-DESC;FMTTYPE=text/html: <p>Learn more\, register for the event and su
 bmit your story or artwork <a href="https://inourwords.wustl.edu/" target="
 _blank" rel="noopener">here</a>.</p><p><strong>Deadline for submissions:</s
 trong> February 28th.</p><p><strong>Location:</strong> Third Degree Glass F
 actory</p>
ORGANIZER;CN="Jennifer":MAILTO:duncan_j@wustl.edu
URL;VALUE=URI:https://gme.wustl.edu/events/event/in-our-words-finding-meani
 ng/
END:VEVENT
BEGIN:VTIMEZONE
TZID:America/Chicago
BEGIN:DAYLIGHT
TZOFFSETFROM:-0600
TZOFFSETTO:-0500
DTSTART:20240310T080000
TZNAME:CDT
END:DAYLIGHT
END:VTIMEZONE
END:VCALENDAR
