BEGIN:VCALENDAR
VERSION:2.0
PRODID:-//Graduate Medical Education Consortium//NONSGML Events//EN
CALSCALE:GREGORIAN
X-ORIGINAL-URL:https://gme.wustl.edu/events/
X-WR-CALDESC:Graduate Medical Education Consortium - Events
BEGIN:VEVENT
UID:20231012T0421Z-1697084489.9005-EO-47893-1@172.23.128.18
STATUS:CONFIRMED
DTSTAMP:20260422T174724Z
CREATED:20231010T170703Z
LAST-MODIFIED:20231010T171001Z
DTSTART;TZID=America/Chicago:20231115T163000
DTEND;TZID=America/Chicago:20231115T183000
SUMMARY: The Story Within: A primer for uncovering and sharing your persona
 l narrative
DESCRIPTION: Location: Cori Interactive Classroom McDonnell Medical Science
 s Bldg\, Floor 1 4565 McKinley Ave Saint Louis\, MO 63110-1010 To tell grea
 t stories\, we must first know what stories we have to tell. Join us for Th
 e Story Within\, a primer for uncovering and sharing your personal narrativ
 e. During this two-hour interactive workshop\, Campfire will guide attendee
 s through identifying their story […]
X-ALT-DESC;FMTTYPE=text/html: <p><strong>Location: <span class="street-addr
 ess">Cori Interactive Classroom</span></strong><br /><strong><span class="e
 xtended-address">McDonnell Medical Sciences Bldg\, Floor 1</span></strong><
 br /><strong>4565 McKinley Ave</strong><br /><strong><span class="locality"
 >Saint Louis</span>\, <span class="region">MO</span> <span class="postal-co
 de">63110-1010</span></strong></p><p>To tell great stories\, we must first 
 know what stories we have to tell. Join us for The Story Within\, a primer 
 for uncovering and sharing your personal narrative. During this two-hour in
 teractive workshop\, <a href="http://cmpfr.com/">Campfire</a> will guide at
 tendees through identifying their story and the essential elements of telli
 ng it. Food and drinks will be provided.</p><p>This event is hosted by the 
 <a href="http://sites.wustl.edu/chsc" target="_blank" rel="noreferrer noope
 ner">Center for Health & Science Communication</a> at Becker Library and is
  open to all. Registration is required. Please contact Mychal Voorhees at <
 a href="mailto:mychal.voorhees@wustl.edu" target="_blank" rel="noreferrer n
 oopener">mychal.voorhees@wustl.edu</a> with any questions.</p><p>Campfire\,
  a St. Louis-based storytelling organization\, will guide attendees through
  identifying their story and the essential elements of telling it in a two-
 hour interactive workshop. Food and drinks will be provided.</p><p><a href=
 "https://becker.wustl.edu/civicrm/event/register/?id=775&reset=1">Register 
 here. </a></p>
ORGANIZER;CN="Beckie":MAILTO:b.guillot-beinke@wustl.edu
URL;VALUE=URI:https://gme.wustl.edu/events/event/storytelling-workshop-with
 -campfire/
END:VEVENT
BEGIN:VTIMEZONE
TZID:America/Chicago
BEGIN:STANDARD
TZOFFSETFROM:-0500
TZOFFSETTO:-0600
DTSTART:20231105T070000
TZNAME:CST
END:STANDARD
END:VTIMEZONE
END:VCALENDAR
