BEGIN:VCALENDAR
VERSION:2.0
PRODID:-//Graduate Medical Education Consortium//NONSGML Events//EN
CALSCALE:GREGORIAN
X-ORIGINAL-URL:https://gme.wustl.edu/events/
X-WR-CALDESC:Graduate Medical Education Consortium - Events
BEGIN:VEVENT
UID:20170509T1808Z-1494353321.1039-EO-2017-1@172.20.65.30
STATUS:CONFIRMED
DTSTAMP:20260412T142614Z
CREATED:20170509T152354Z
LAST-MODIFIED:20170516T163310Z
DTSTART;TZID=America/Chicago:20170728T070000
DTEND;TZID=America/Chicago:20170728T120000
SUMMARY: WUSM – BJC – SLCH – GME Collaborative Summit
DESCRIPTION: Hand-offs\, Consultations\, Emergency Department Interactions 
 and Referring Physician Communications Co-chairs: Sam Bhayani MD\, MS and T
 homas Ciesielski\, MD AGENDA – WUSM – BJH – SLCH – GME Collaborative Summit
  2017_07_28 (pdf) FLYER – WUSM – BJH – SLCH – GME Collaborative Summit 2017
 _07_28 (pdf)  
X-ALT-DESC;FMTTYPE=text/html: <p>Hand-offs\, Consultations\, Emergency Depa
 rtment Interactions and Referring Physician Communications</p><p>Co-chairs:
  Sam Bhayani MD\, MS and Thomas Ciesielski\, MD</p><p style="padding-left: 
 30px\;"><a href="https://gme.wustl.edu/app/uploads/2017/05/handoff-agenda-F
 INAL.pdf">AGENDA - WUSM - BJH - SLCH - GME Collaborative Summit 2017_07_28 
 (pdf)</a></p><p style="padding-left: 30px\;"><a href="https://gme.wustl.edu
 /app/uploads/2017/05/handoff_savethedate-FINAL.pdf">FLYER - WUSM - BJH - SL
 CH - GME Collaborative Summit 2017_07_28 (pdf)</a></p><p> </p>
LOCATION:Cori Auditorium
GEO:38.634468;-90.262384
ORGANIZER;CN="Kristina":MAILTO:henke.k@wustl.edu
URL;VALUE=URI:https://gme.wustl.edu/events/event/wusm-bjc-slch-gme-collabor
 ative-summit/
END:VEVENT
BEGIN:VTIMEZONE
TZID:America/Chicago
BEGIN:DAYLIGHT
TZOFFSETFROM:-0600
TZOFFSETTO:-0500
DTSTART:20170312T080000
TZNAME:CDT
END:DAYLIGHT
END:VTIMEZONE
END:VCALENDAR
